BEGIN:VCALENDAR
VERSION:2.0
PRODID:-//Българо–китайска камара за търговия и земеделие - ECPv6.15.20//NONSGML v1.0//EN
CALSCALE:GREGORIAN
METHOD:PUBLISH
X-WR-CALNAME:Българо–китайска камара за търговия и земеделие
X-ORIGINAL-URL:https://bccca.cn
X-WR-CALDESC:Events for Българо–китайска камара за търговия и земеделие
REFRESH-INTERVAL;VALUE=DURATION:PT1H
X-Robots-Tag:noindex
X-PUBLISHED-TTL:PT1H
BEGIN:VTIMEZONE
TZID:UTC
BEGIN:STANDARD
TZOFFSETFROM:+0000
TZOFFSETTO:+0000
TZNAME:UTC
DTSTART:20250101T000000
END:STANDARD
END:VTIMEZONE
BEGIN:VEVENT
DTSTART;VALUE=DATE:20260512
DTEND;VALUE=DATE:20260515
DTSTAMP:20260424T162603
CREATED:20250913T060726Z
LAST-MODIFIED:20251011T110841Z
UID:3019-1778544000-1778803199@bccca.cn
SUMMARY:Китайско изложение за красота\, Шанхай\, 2026
DESCRIPTION:China Beauty Expo (CBE) е водещата B2B платформа в Азия за вериги за доставки и марки в областта на красотата \, предоставяща най-новите технологии\, ресурси\, знания и тенденции за подобряване на комуникацията и търговията.  China Beauty Expo е високо признато като професионална платформа за  лична грижа\, грим и парфюми\, марки за красота\, здраве и уелнес\, марки за нокти и мигли и свързани с тях услуги \nChina Beauty Expo (CBE) is the Asia’s leading B2B platform for beauty supply chain and brands\, providing the latest technology\, resources\, knowledge\, and trends to boost communication and commerce \n  \n\n\nДата на изложението: 12-14 МАЙ 2026 \nШанхай
URL:https://bccca.cn/event/%d0%ba%d0%b8%d1%82%d0%b0%d0%b9%d1%81%d0%ba%d0%be-%d0%b8%d0%b7%d0%bb%d0%be%d0%b6%d0%b5%d0%bd%d0%b8%d0%b5-%d0%b7%d0%b0-%d0%ba%d1%80%d0%b0%d1%81%d0%be%d1%82%d0%b0/
LOCATION:Шанхай\, Shanghai\, China
CATEGORIES:Красота,Красота,Шанхай
ATTACH;FMTTYPE=image/png:https://bccca.cn/wp-content/uploads/2025/09/241113-logo.png
END:VEVENT
BEGIN:VEVENT
DTSTART;VALUE=DATE:20260819
DTEND;VALUE=DATE:20260822
DTSTAMP:20260424T162603
CREATED:20251120T214210Z
LAST-MODIFIED:20260128T190832Z
UID:4094-1787097600-1787356799@bccca.cn
SUMMARY:Изложение за интензивно животновъдство
DESCRIPTION:Изложение за интензивно животновъдство – VIV SELECT CHINA 2026 (Шанхай) ще се проведе в Зала 1 на Изложбения и конгресен център Shanghai World Expo от 19 до 21 август 2026 г. Темата на изложението ще бъде „Свързване на света\, изграждане на универсална платформа за търговия с добитък“ .  Изложението ще използва пълноценно глобалните си ресурси и силно влияние\, за да стимулира всеобхватната стратегия в страната.\nVIV SELECT CHINA е професионално международно търговско изложение за интензивно животновъдство. То което представя най-новите технологии и иновативни продукти за свиневъдството и птицевъдството\, фуражни съставки\, добавки\, оборудване за фуражи/фуражни добавки. Също така представя селскостопанска техника\, биопродукти\, технологии за развъждане\, здравеопазване на животните\, фармацевтични машини и преработка на яйца. \nVIV Select China служи като мост между Китай и световната животновъдна индустрия. То предоставя на местните изложители първата стъпка към международната сцена. Също се превръща във важна врата за чуждестранните изложители да навлязат на китайския пазар. \nИзложение за интензивно животновъдство\, какво да видим:\n\nОборудване за животновъдство\, системи за развъждане\, оборудване за преработка и решения за птици\, свине и говеда.\nРешения за управление на отпадъци\, третиране на оборски тор и екологични технологии за животновъдство.\nЗдравеопазване на животните\, ветеринарна медицина\, ваксини и суровини \nФармацевтични продукти: здравето на добитъка\, превенция на заболявания\, ваксини и разплодни животни.\nФуражни добавки и оборудване за преработка на фуражи: оборудване за преработка на фуражи\, фуражни добавки и световни марки във фуражната индустрия.\nАквакултури и водна индустрия: Специализирано пространство за технологии за аквакултури\, решения за фуражи и глобален бизнес с аквакултури.\n\n\n\n\n\n\nФуражи и фуражни съставки\nФуражни добавки\nОборудване за смилане на фуражи\nБиопродукти (ваксини\, ветеринарни лекарства и др.)\nВетеринарно оборудване / Предпазни средства\nОборудване за производство и опаковане на ветеринарни лекарства\nРазвъждане / Люпене\nОборудване за развъждане/люпене\nПроектиране и изграждане на жилища\nОборудване за ферми и хранене\nОборудване за контрол на околната среда (вентилация\, температура и др.) \n\n\n\n\n\n\n\n\n\n\nОсветително оборудване\nОборудване за обработка и аксесоари за селското стопанство\nКлане и преработка и обработка на месо / яйца\nЛогистика / Хладилна техника / Опаковка\nПремиум продукти за добитък\nОборудване и услуги за лабораторни тестове\nИТ и автоматизирани услуги\nОборудване за третиране на отпадъци и биоенергийни технологии\nАквакултури Технологии и оборудване за земеделие\nТехнологии и оборудване за отглеждане на преживни животни
URL:https://bccca.cn/event/%d0%b8%d0%b7%d0%bb%d0%be%d0%b6%d0%b5%d0%bd%d0%b8%d0%b5-%d0%b7%d0%b0-%d0%b8%d0%bd%d1%82%d0%b5%d0%bd%d0%b7%d0%b8%d0%b2%d0%bd%d0%be-%d0%b6%d0%b8%d0%b2%d0%be%d1%82%d0%bd%d0%be%d0%b2%d1%8a%d0%b4%d1%81/
LOCATION:Шанхай\, Shanghai\, China
CATEGORIES:Ветеринарна медицина,Животновъдство,Селско стопанство,Селскостопански машини,Фуражи,Шанхай
ATTACH;FMTTYPE=image/jpeg:https://bccca.cn/wp-content/uploads/2025/11/VIV_Select_China_centered.jpg
END:VEVENT
BEGIN:VEVENT
DTSTART;VALUE=DATE:20261203
DTEND;VALUE=DATE:20261206
DTSTAMP:20260424T162603
CREATED:20251121T090829Z
LAST-MODIFIED:20251121T093616Z
UID:4106-1796256000-1796515199@bccca.cn
SUMMARY:Изложение частни марки на дребно в Азия PLF 2026
DESCRIPTION:Изложение за частни марки на дребно в Азия PLF 2026 – 19-тото Глобално изложение за продукти с частна марка на дребно\, ще се проведе от  3 до 5 декември 2026 г.  в  Шанхайския нов международен изложбен център \n Частна марка – какво е това?\nПродуктите с частна марка включват всички стоки\, продавани под марката на търговеца на дребно. Тази марка може да бъде собственото име на търговеца на дребно или име\, създадено изключително от търговеца на дребно.  \nСупермаркетите\, магазините за хранителни стоки предлагат винаги свои собствени продукти под собствена марка. Тези марки под собствената марка обхващат пресни храни\, консервирани храни\, затворени храни. Също така сухи храни\, закуски\, продукти за здраве и красота\, лекарства без рецепта. Могат да бъдат козметика\, продукти за домакинството и пране и други. Изложение за частни марки на дребно в Азия PLF 2026 е начинът да се запознаете с тях. \nЗа потребителите марките с частна марка представляват избор и възможност редовно да купуват висококачествени хранителни и нехранителни продукти на по-добри и по-ниски цени от марковите продукти. Продуктите с частна марка често имат същите или по-добри съставки от марковите продукти. \nПроизводителите на продуктите с частна марка се разделят на три категории :  \n\n• Големи\, които притежават собствени марки и произвеждат продукти с частна марка.\n • Малки и средни\, които се фокусират върху продуктови линии и произвеждат почти изключително продукти с частна марка.\n • Големи търговци на дребно и едро\, които управляват собствени производствени предприятия и доставят продукти с частна марка до собствените си магазини.
URL:https://bccca.cn/event/%d0%b8%d0%b7%d0%bb%d0%be%d0%b6%d0%b5%d0%bd%d0%b8%d0%b5-%d0%b7%d0%b0-%d1%87%d0%b0%d1%81%d1%82%d0%bd%d0%b8-%d0%bc%d0%b0%d1%80%d0%ba%d0%b8-%d0%bd%d0%b0-%d0%b4%d1%80%d0%b5%d0%b1%d0%bd%d0%be/
LOCATION:Шанхай\, Shanghai\, China
CATEGORIES:Частни марки,Шанхай
ATTACH;FMTTYPE=image/png:https://bccca.cn/wp-content/uploads/2025/11/plf.png
END:VEVENT
END:VCALENDAR