BEGIN:VCALENDAR
VERSION:2.0
PRODID:-//Българо–китайска камара за търговия и земеделие - ECPv6.15.15//NONSGML v1.0//EN
CALSCALE:GREGORIAN
METHOD:PUBLISH
X-WR-CALNAME:Българо–китайска камара за търговия и земеделие
X-ORIGINAL-URL:https://bccca.cn
X-WR-CALDESC:Events for Българо–китайска камара за търговия и земеделие
REFRESH-INTERVAL;VALUE=DURATION:PT1H
X-Robots-Tag:noindex
X-PUBLISHED-TTL:PT1H
BEGIN:VTIMEZONE
TZID:UTC
BEGIN:STANDARD
TZOFFSETFROM:+0000
TZOFFSETTO:+0000
TZNAME:UTC
DTSTART:20240101T000000
END:STANDARD
END:VTIMEZONE
BEGIN:VEVENT
DTSTART;VALUE=DATE:20250924
DTEND;VALUE=DATE:20250925
DTSTAMP:20260422T155136
CREATED:20250917T032420Z
LAST-MODIFIED:20250917T042918Z
UID:3111-1758672000-1758758399@bccca.cn
SUMMARY:2-ри годишен форум за транспорт\, логистика и спедиция
DESCRIPTION:Вторият годишен форум за транспорт\, логистика и спедиция събира водещи експерти и компании\, за да очертае бъдещето на сектора в условията на геополитически турбуленции\, технологичен напредък и нови регулации. Експерти ще обсъдят икономическите и бизнес ефекти от изграждането на Терминал 3\, промените след Шенген и предизвикателствата пред веригите на доставка. Специален фокус ще бъде поставен върху мултимодалния транспорт\, устойчивите и дигитални решения\, ролята на изкуствения интелект и роботизацията. Форумът ще завърши с ключови дискусии за регулаторните изисквания\, киберрисковете и бъдещето на електронната документация. Събитието обещава цялостен поглед върху трансформациите в логистичния сектор – от инфраструктурата до иновациите.
URL:https://bccca.cn/event/2-%d1%80%d0%b8-%d0%b3%d0%be%d0%b4%d0%b8%d1%88%d0%b5%d0%bd-%d1%84%d0%be%d1%80%d1%83%d0%bc-%d0%b7%d0%b0-%d1%82%d1%80%d0%b0%d0%bd%d1%81%d0%bf%d0%be%d1%80%d1%82-%d0%bb%d0%be%d0%b3%d0%b8%d1%81%d1%82%d0%b8/
LOCATION:София
CATEGORIES:Логистика
ATTACH;FMTTYPE=image/png:https://bccca.cn/wp-content/uploads/2025/09/2-ri.png
END:VEVENT
END:VCALENDAR