BEGIN:VCALENDAR
VERSION:2.0
PRODID:-//Българо–китайска камара за търговия и земеделие - ECPv6.15.20//NONSGML v1.0//EN
CALSCALE:GREGORIAN
METHOD:PUBLISH
X-WR-CALNAME:Българо–китайска камара за търговия и земеделие
X-ORIGINAL-URL:https://bccca.cn
X-WR-CALDESC:Events for Българо–китайска камара за търговия и земеделие
REFRESH-INTERVAL;VALUE=DURATION:PT1H
X-Robots-Tag:noindex
X-PUBLISHED-TTL:PT1H
BEGIN:VTIMEZONE
TZID:UTC
BEGIN:STANDARD
TZOFFSETFROM:+0000
TZOFFSETTO:+0000
TZNAME:UTC
DTSTART:20250101T000000
END:STANDARD
END:VTIMEZONE
BEGIN:VEVENT
DTSTART;VALUE=DATE:20260228
DTEND;VALUE=DATE:20260303
DTSTAMP:20260424T164022
CREATED:20251006T144323Z
LAST-MODIFIED:20260130T191430Z
UID:3577-1772236800-1772495999@bccca.cn
SUMMARY:Изложение за риболовни принадлежности
DESCRIPTION:Изложение за риболовни принадлежности  \nще се проведе от 28 февруари до 2 март 2026 г. в Китайския международен изложбен център – ново място в Пекин. Изложението обхваща риболовни принадлежности\, оборудване за дейности на открито и свързани с тях стоки. Предишното събитие привлече 721 изложители\, включително 698 местни и 20 международни компании\, както и представители на медии и интелектуална собственост. Очаква се това изложение за риболовни принадлежности да събере голям брой професионалисти от индустрията и любители на риболова на площ от 40 000 квадратни метра. Организирано от Beijing Ao Qin Run Jiang Exhibition Co.\, Ltd.\, изложението улеснява снабдяването\, изграждането на мрежа от контакти и запознаването с индустрията. \nОбхват на изложбата \n\nРиболовни принадлежности:\nВъдици\, макари\, корди\, куки\, стръв\, примамки\, аксесоари.\nЕкипировка за дейности на открито:\nКъмпинг екипировка\, раници\, облекло за дейности на открито\, инструменти за оцеляване.\nКонсумативи за дейности на открито:\nРибарски лодки\, палатки\, преносимо оборудване за готвене\, предпазни средства.\n\nЦелева аудитория\nПроизводители на риболовни принадлежности\, доставчици на оборудване за дейности на открито\, търговци на дребно\, търговци на едро\, вносители/износители\, любители на риболова\, дистрибутори на спортни стоки\, клубове за любителски риболов\, търговски медии\, организатори на събития.
URL:https://bccca.cn/event/%d0%b8%d0%b7%d0%bb%d0%be%d0%b6%d0%b5%d0%bd%d0%b8%d0%b5-%d0%b7%d0%b0-%d1%80%d0%b8%d0%b1%d0%be%d0%bb%d0%be%d0%b2%d0%bd%d0%b8-%d0%bf%d1%80%d0%b8%d0%bd%d0%b0%d0%b4%d0%bb%d0%b5%d0%b6%d0%bd%d0%be%d1%81/
LOCATION:Пекин\, Пекин\, China
CATEGORIES:Пекин,Рибарство
ATTACH;FMTTYPE=image/png:https://bccca.cn/wp-content/uploads/2025/10/logo122.png
END:VEVENT
BEGIN:VEVENT
DTSTART;VALUE=DATE:20260302
DTEND;VALUE=DATE:20260307
DTSTAMP:20260424T164023
CREATED:20251003T065506Z
LAST-MODIFIED:20260127T102503Z
UID:3334-1772409600-1772841599@bccca.cn
SUMMARY:Международно изложение за диаманти\, скъпоценни камъни и перли\, Хонконг\, 2026
DESCRIPTION:Международно изложение за диаманти\, скъпоценни камъни и перли\, Хонконг\, 2026 \n  \nДати: 02-06.03.2026
URL:https://bccca.cn/event/%d0%bc%d0%b5%d0%b6%d0%b4%d1%83%d0%bd%d0%b0%d1%80%d0%be%d0%b4%d0%bd%d0%be-%d0%b8%d0%b7%d0%bb%d0%be%d0%b6%d0%b5%d0%bd%d0%b8%d0%b5-%d0%b7%d0%b0-%d0%b4%d0%b8%d0%b0%d0%bc%d0%b0%d0%bd%d1%82%d0%b8-%d1%81/
LOCATION:Хонконг\, Хон Конг\, Хон Конг\, China
CATEGORIES:Бижута и модни аксесоари,Красота,Красота,Хонконг
ATTACH;FMTTYPE=image/png:https://bccca.cn/wp-content/uploads/2025/10/diam-of-2026.png
END:VEVENT
BEGIN:VEVENT
DTSTART;VALUE=DATE:20260317
DTEND;VALUE=DATE:20260320
DTSTAMP:20260424T164023
CREATED:20251006T143517Z
LAST-MODIFIED:20260129T105556Z
UID:3573-1773705600-1773964799@bccca.cn
SUMMARY:Китайско международно изложение за агрохимикали и растителна защита\, Шанхай\, 2026
DESCRIPTION:26-тото Китайско международно изложение за агрохимикали и растителна защита ще се проведе от 17 до 19 март 2026 г. в Националния изложбен и конгресен център в Шанхай. На изложението\, представящо агрохимикали\, торове\, продукти за биоинженерство за растителна защита и селскостопанска техника\, ще участват 2236 изложители на площ от 160 000 кв. м. Събитието\, посещавано от професионалисти от 133 държави\, насърчава търговията и иновациите в световната агрохимична и растителна защита. Организирано от водещи индустриални организации\, то предоставя платформа за бизнес мрежи\, обмен на технологии и разширяване на пазара. \nОбхват на изложбата\n\nАгрохимикали:\nинсектициди\, фунгициди\, хербициди\, биологични пестициди\, производствени технологии.\nТорове:\nАзотни\, фосфатни\, поташни\, комбинирани торове\, специализирани торове\, включително водорасли\, биоторове и торове с бавно освобождаване.\nРастителна защита и селскостопанско биоинженерство:\nРегулатори на растежа на растенията\, генетично модифицирани продукти\, свързани технологии и оборудване.\nСелскостопанска техника:\nПроизводствено оборудване\, инструменти за пръскане\, пластмасови материали\, напоително оборудване\, опаковъчни машини.\nСелскостопански пластмаси:\nФолиа за оранжерии\, мулчиращи фолиа\, мрежи за сянка\, мрежи против насекоми\, тави за разсад\, водоспестяващи инструменти за напояване.\n\nЦелева аудитория\nПроизводители на селскостопански химикали\, специалисти по растителна защита\, производители на торове\, доставчици на селскостопанска техника\, изследователи в областта на биоинженерството\, дистрибутори\, търговци на едро\, износители\, агрономи\, държавни служители в областта на селското стопанство.
URL:https://bccca.cn/event/%d0%ba%d0%b8%d1%82%d0%b0%d0%b9%d1%81%d0%ba%d0%be-%d0%bc%d0%b5%d0%b6%d0%b4%d1%83%d0%bd%d0%b0%d1%80%d0%be%d0%b4%d0%bd%d0%be-%d0%b8%d0%b7%d0%bb%d0%be%d0%b6%d0%b5%d0%bd%d0%b8%d0%b5-%d0%b7%d0%b0-%d0%b0-3/
LOCATION:Шанхай\, Shanghai\, China
CATEGORIES:Агрохимикали и растителна защита,Селско стопанство,Селскостопански машини,Шанхай
ATTACH;FMTTYPE=image/jpeg:https://bccca.cn/wp-content/uploads/2025/10/CAC-logo.jpg
END:VEVENT
BEGIN:VEVENT
DTSTART;VALUE=DATE:20260317
DTEND;VALUE=DATE:20260320
DTSTAMP:20260424T164023
CREATED:20251006T150203Z
LAST-MODIFIED:20260128T190720Z
UID:3598-1773705600-1773964799@bccca.cn
SUMMARY:Китайско международно изложение за селскостопански технологии\, Шанхай\, 2026
DESCRIPTION:Международното изложение за селскостопански технологии в Китай ще се проведе от 17 до 19 март 2026 г. в Националния изложбен и конгресен център в Шанхай. Събитието представя напоителна техника\, оранжерийни технологии\, семена\, селскостопанска авиация и интелигентна селскостопанска техника. С над 2200 изложители на 160 000 кв. м. и 90 000 професионални посещения от 124 държави\, то се организира от Подсъвета по химическата промишленост на CCPIT. Като клон на най-голямото агрохимическо изложение в света CAC\, изложението предоставя на купувачите от цял ​​свят възможности за обществени поръчки на едно място\, насърчава международната търговия и промотира иновациите в съвременното земеделие чрез своите изложбени и индустриални форуми. \nОбхват на изложбата\n\nНапояване: прецизно напояване\, спринклерни системи\, тръби за капково напояване\, микронапояване\, слънчеви напоителни системи\, помпи\, клапани\, филтри\, водоразтворими торове\, интеграция на водо-торове\, аксесоари за напояване.\nОранжерийни и градинарски материали: оранжерийно инженерство\, конструкции\, фолиа\, осветление\, системи за контрол на температурата\, градско и туристическо земеделие\, технология за отглеждане\, градинарски материали\, разсадникови продукти.\nСемена: зеленчукови семена\, цветни семена\, тревни семена\, горски семена.\nСелскостопанска авиация: дронове\, селскостопански самолети\, пръскачка\, технология за дистанционно наблюдение\, оборудване за авиационна безопасност\, пръскачки за въздушно напояване.\nИнтелигентна селскостопанска техника: прецизна техника за торене\, роботи за засаждане\, роботи за плевене\, системи за мониторинг\, роботи за прибиране на реколтата.\n\nЦелева аудитория\nЗемеделски производители\, оператори на оранжерии\, купувачи на напоителни системи\, дистрибутори на семена\, доставчици на технологии за интелигентно земеделие\, агрохимически компании\, производители на селскостопанска техника\, агротърговски компании\, международни вносители\, изследователски институции.
URL:https://bccca.cn/event/%d0%ba%d0%b8%d1%82%d0%b0%d0%b9%d1%81%d0%ba%d0%be-%d0%bc%d0%b5%d0%b6%d0%b4%d1%83%d0%bd%d0%b0%d1%80%d0%be%d0%b4%d0%bd%d0%be-%d0%b8%d0%b7%d0%bb%d0%be%d0%b6%d0%b5%d0%bd%d0%b8%d0%b5-%d0%b7%d0%b0-%d1%81-3/
LOCATION:Шанхай\, Shanghai\, China
CATEGORIES:Селско стопанство,Селскостопански машини,Семена,Шанхай
ATTACH;FMTTYPE=image/png:https://bccca.cn/wp-content/uploads/2025/10/agtech-e1759773417274.png
END:VEVENT
BEGIN:VEVENT
DTSTART;VALUE=DATE:20260320
DTEND;VALUE=DATE:20260324
DTSTAMP:20260424T164023
CREATED:20251003T043605Z
LAST-MODIFIED:20251011T112511Z
UID:3271-1773964800-1774310399@bccca.cn
SUMMARY:Международно изложение за красота и грижа за кожата и изложение за нокти и мигли в Тайпе 2026
DESCRIPTION:Чествайки 36-ото си издание през 2026 г.\, най-дългогодишното изложение за красота в Тайван придобива чисто нова идентичност като beautyworld Taipei. Като най-емблематичната платформа за снабдяване на цялата страна за козметичната индустрия\, изложението продължава да бъде най-добрата дестинация за улавяне на най-новите тенденции в грижата за кожата\, грима\, ноктите и миглите\, козметичното оборудване\, OEM и опаковките\, медицинската естетика\, спа и уелнес\, консумативите за коса\, скалп и салони\, ароматерапията и етеричните масла\, обученията и платформите за красота и други. С динамичната си програма от изложби\, семинари и интерактивни събития\, изложението привлича вниманието както на лидери в индустрията\, така и на академични експерти\, отговаряйки на променящите се изисквания на пазара.
URL:https://bccca.cn/event/%d0%bc%d0%b5%d0%b6%d0%b4%d1%83%d0%bd%d0%b0%d1%80%d0%be%d0%b4%d0%bd%d0%be-%d0%b8%d0%b7%d0%bb%d0%be%d0%b6%d0%b5%d0%bd%d0%b8%d0%b5-%d0%b7%d0%b0-%d0%ba%d1%80%d0%b0%d1%81%d0%be%d1%82%d0%b0-%d0%b8-%d0%b3/
LOCATION:Тайпе\, Тайпе\, Тайпе\, Taiwan
CATEGORIES:Красота,Красота,Тайпе
ATTACH;FMTTYPE=image/jpeg:https://bccca.cn/wp-content/uploads/2025/10/exhibitors_07.webp.1920-scaled.jpg
END:VEVENT
END:VCALENDAR